BEGIN:VCALENDAR
VERSION:2.0
PRODID: -//Q4 Inc.//EN
METHOD:PUBLISH
BEGIN:VTIMEZONE
TZID:America/New_York
X-LIC-LOCATION:America/New_York
BEGIN:DAYLIGHT
TZOFFSETFROM:-0500
TZOFFSETTO:-0400
TZNAME:EDT
DTSTART:19700308T020000
RRULE:FREQ=YEARLY;BYMONTH=3;BYDAY=2SU
END:DAYLIGHT
BEGIN:STANDARD
TZOFFSETFROM:-0400
TZOFFSETTO:-0500
TZNAME:EST
DTSTART:19701101T020000
RRULE:FREQ=YEARLY;BYMONTH=11;BYDAY=1SU
END:STANDARD
END:VTIMEZONE
BEGIN:VEVENT
ORGANIZER:MAILTO:investors@solidpowerbattery.com
DTSTART;TZID="America/New_York":20250227T163000
DTEND;TZID="America/New_York":20250227T173000
LOCATION:
UID:743e2723-9a8a-4ed9-a03b-5cf3e9e6093a
DTSTAMP:20260422T195139
SUMMARY:Solid Power, Inc. Fourth Quarter 2024 Earnings Conference Call
DESCRIPTION: View More Information: https://www.solidpowerbattery.com/investor-relations/events-and-presentations/events/event-details/2025/Solid-Power-Inc-Fourth-Quarter-2024-Earnings-Conference-Call/default.aspx
URL;VALUE=URI:https://www.solidpowerbattery.com/investor-relations/events-and-presentations/events/event-details/2025/Solid-Power-Inc-Fourth-Quarter-2024-Earnings-Conference-Call/default.aspx
PRIORITY:5
CLASS:PUBLIC
END:VEVENT
END:VCALENDAR
